BEGIN:VCALENDAR
VERSION:2.0
PRODID:-//Moviment Graffitti - ECPv6.15.20//NONSGML v1.0//EN
CALSCALE:GREGORIAN
METHOD:PUBLISH
X-ORIGINAL-URL:https://movimentgraffitti.org
X-WR-CALDESC:Events for Moviment Graffitti
REFRESH-INTERVAL;VALUE=DURATION:PT1H
X-Robots-Tag:noindex
X-PUBLISHED-TTL:PT1H
BEGIN:VTIMEZONE
TZID:Europe/Malta
BEGIN:DAYLIGHT
TZOFFSETFROM:+0100
TZOFFSETTO:+0200
TZNAME:CEST
DTSTART:20250330T010000
END:DAYLIGHT
BEGIN:STANDARD
TZOFFSETFROM:+0200
TZOFFSETTO:+0100
TZNAME:CET
DTSTART:20251026T010000
END:STANDARD
BEGIN:DAYLIGHT
TZOFFSETFROM:+0100
TZOFFSETTO:+0200
TZNAME:CEST
DTSTART:20260329T010000
END:DAYLIGHT
BEGIN:STANDARD
TZOFFSETFROM:+0200
TZOFFSETTO:+0100
TZNAME:CET
DTSTART:20261025T010000
END:STANDARD
BEGIN:DAYLIGHT
TZOFFSETFROM:+0100
TZOFFSETTO:+0200
TZNAME:CEST
DTSTART:20270328T010000
END:DAYLIGHT
BEGIN:STANDARD
TZOFFSETFROM:+0200
TZOFFSETTO:+0100
TZNAME:CET
DTSTART:20271031T010000
END:STANDARD
END:VTIMEZONE
BEGIN:VEVENT
DTSTART;TZID=Europe/Malta:20260423T183000
DTEND;TZID=Europe/Malta:20260423T213000
DTSTAMP:20260423T172745
CREATED:20260417T111354Z
LAST-MODIFIED:20260417T112024Z
UID:8509-1776969000-1776979800@movimentgraffitti.org
SUMMARY:Queer Film Night: The Watermelon Woman
DESCRIPTION:Join us for our queer film screening of the month – leading up to Lesbian Visibility Day\, we’re happy to be screening the first feature film directed by a black lesbian artist. \nCheryl Dunye\, who wrote\, directed and edited the movie\, also plays the role of Cheryl\, a young woman working a day job in a video store while trying to make a film about Fae Richards\, a Black actress from the 1930s known for playing the stereotypical “mammy” roles to which Black actresses were relegated during the period. \nCheck out the trailer here: https://www.youtube.com/watch?v=mtU6Wo29VXI
URL:https://movimentgraffitti.org/event/queer-film-night-the-watermelon-woman/
LOCATION:Moviment Graffitti Premises\, 67\, Strait Street\, Valletta\, Malta
CATEGORIES:Discussion / Presentation,LGBTIQ+ / Pride
ATTACH;FMTTYPE=image/jpeg:https://movimentgraffitti.org/wp-content/uploads/2026/04/watermelon-woman-screening-e1776424818614.jpg
END:VEVENT
BEGIN:VEVENT
DTSTART;TZID=Europe/Malta:20260424T190000
DTEND;TZID=Europe/Malta:20260424T210000
DTSTAMP:20260423T172745
CREATED:20260417T111736Z
LAST-MODIFIED:20260417T111736Z
UID:8515-1777057200-1777064400@movimentgraffitti.org
SUMMARY:Italian Resistance Songs - Workshop
DESCRIPTION:Join the Kor Re-Sisters for a couple of hours on Friday 24th April at 7pm to learn and practise some Italian Resistance songs together. We will meet at 67 Strait Street\, Valletta. \nNo previous singing experience is required. We aim to create an encouraging\, informal\, and social space of collective singing and shared struggle. \nWe will learn well-known songs such as Bella Ciao and Fischia il Vento\, as well as other Italian Resistance\, partisan\, and antifascist songs. \nWe will also sing the songs again together on Saturday 25th April (Italian Liberation Day) at around 6pm: https://www.facebook.com/events/3006777673045731 \nLyrics will be provided. \nPlease note that the location has stairs.
URL:https://movimentgraffitti.org/event/italian-resistance-songs-workshop/
LOCATION:Moviment Graffitti Premises\, 67\, Strait Street\, Valletta\, Malta
CATEGORIES:International Solidarity,Social Events
ATTACH;FMTTYPE=image/jpeg:https://movimentgraffitti.org/wp-content/uploads/2026/04/italian-resistance-songs-workshop.jpg
END:VEVENT
BEGIN:VEVENT
DTSTART;TZID=Europe/Malta:20260425T170000
DTEND;TZID=Europe/Malta:20260425T200000
DTSTAMP:20260423T172745
CREATED:20260409T104117Z
LAST-MODIFIED:20260409T104117Z
UID:8493-1777136400-1777147200@movimentgraffitti.org
SUMMARY:Antifascist Bingo\, Music\, and Dinner
DESCRIPTION:Join us on the occasion of Italian Liberation Day from Nazi-fascist occupation. \nWe will start at 5pm with two rounds of antifascist bingo. Through numbers\, we will remember historical antifascist and resistance facts. \nAfterwards\, the public is invited to listen or join the Kor Re-Sisters as they sing resistance songs. \nFrom 8pm\, we will share a vegetarian dinner together (more details to come). \nOn 25 April 1945\, the liberation of Italy from Nazi-fascist occupation was declared\, thanks to the resistance of various antifascist forces and the armed partisan movement. \nToday\, more than ever\, our world is being threatened again by the far-right and recent fascist movements. But\, as Chumbawamba sing\, “we’ll never rest again\, until every fascist dies!” \nThere is renewed hope in Italy after the younger generation stood together to vote no in the last referendum\, defending democracy\, justice\, and the antifascist constitution. \nSing along with us\, stay for our antifascist bingo and dinner! \nBingo and music are free. Please note that the venue is only accessible by stairs.
URL:https://movimentgraffitti.org/event/antifascist-bingo-music-and-dinner/
LOCATION:Moviment Graffitti Premises\, 67\, Strait Street\, Valletta\, Malta
CATEGORIES:International Solidarity,Social Events
ATTACH;FMTTYPE=image/jpeg:https://movimentgraffitti.org/wp-content/uploads/2026/04/antifascist-bingo.jpg
END:VEVENT
BEGIN:VEVENT
DTSTART;TZID=Europe/Malta:20260426T170000
DTEND;TZID=Europe/Malta:20260426T200000
DTSTAMP:20260423T172745
CREATED:20260417T111843Z
LAST-MODIFIED:20260417T111907Z
UID:8517-1777222800-1777233600@movimentgraffitti.org
SUMMARY:Keychain Workshop for Lesbian Visibility Day
DESCRIPTION:*** REGISTRATIONS CLOSED *** \nLesbians\, sapphics\, and allies are invited to join us on Sunday the 26th of April for our carabiner accessory making workshop to celebrate lesbian visibility day! Whether you’re an experienced crafter or completely new\, we invite you to join us for a fun night of crafting and community! \nThe event will start off with a talk about the carabiner’s origin in queer fashion history\, then the workshop facilitated by Tiana\, who will give a demonstration on how to create girl scouts inspired rope keychains which can be used as accessories or keychains for your carabiners. \nWe will provide the materials needed for making the accessories. \nTo mark your attendance and make sure that you are provided with the materials needed please fill in this form: https://docs.google.com/…/1FAIpQLSeMrfu0ZGJ…/viewform… \nThere will be snacks and drinks provided at the event but feel free to bring your own. The event is free of charge but donations are appreciated. \nAccessibility is restricted for people with mobility issues – however\, get in touch with us\, and we will help you up the stairs.
URL:https://movimentgraffitti.org/event/keychain-workshop-lesbian-visibility-day/
LOCATION:Moviment Graffitti Premises\, 67\, Strait Street\, Valletta\, Malta
CATEGORIES:LGBTIQ+ / Pride,Social Events
ATTACH;FMTTYPE=image/jpeg:https://movimentgraffitti.org/wp-content/uploads/2026/04/keychain-workshop-lesbians.jpg
END:VEVENT
BEGIN:VEVENT
DTSTART;TZID=Europe/Malta:20260501T110000
DTEND;TZID=Europe/Malta:20260501T150000
DTSTAMP:20260423T172745
CREATED:20260409T104441Z
LAST-MODIFIED:20260409T104441Z
UID:8496-1777633200-1777647600@movimentgraffitti.org
SUMMARY:Festa Ħaddiema
DESCRIPTION:Join us for Festa Ħaddiema (Workers’ Fest) on Friday 1st May 2026\, International Workers’ Day\, between 11:00 and 15:00 at the Ġnien l-Għannejja Żwieten in Żejtun to remember the many workers’ struggles and achievements throughout history and to show solidarity with workers in Malta and around the world. \nSocio-political\, fun activities and music performances \nDemonstrations in ganutell\, lace-making and filigree by traditional artisans \nPanel discussion about work and intersectionality with speakers representing the LGBTIQ+ community\, persons with disabilities and migrants \nKnow your rights: Trade union Solidarjetà will be coordinating an activity about the importance of unionisation \nRafel Grima from Moviment Graffitti will present work-life balance solutions as part of our campaign – Justice for Workers. \nEveryone is welcome to bring some food and drinks to share and a cushion to sit on. Come and bring your friends to celebrate and to express your solidarity with workers. \n****** \nIngħaqdu magħna għal Festa Ħaddiema\, nhar il-Ġimgħa l-1 ta’ Mejju 2026\, il-Jum Internazzjonali tal-Ħaddiema bejn il-11:00 u t-15:00 fi Ġnien l-Għannejja Żwieten\, iż-Żejtun biex infakkru d-diversi ġlidiet tal-ħaddiema kif ukoll ir-rebħiet tagħhom matul l-istorja. \nSe nkunu qegħdin ukoll nuru solidarjetà mal-ħaddiema f’Malta u fil-kumplament tad-dinja. \nNofstanhar ta’ attivitatjiet soċjo-politiċi u mużika \nDimostrazzjonijiet ta’ xogħol tal-ganutell\, bizzilla u filugranu minn artiġjani tradizzjonali \nDiskussjoni dwar ix-xogħol u l-intersezzjonalità b’kelliema li jirrappreżentaw il-komunità LGBTIQ+\, persuni b’diżabilità u immigranti \nKun af id-drittijiet tiegħek: L-unjin Solidarjetà se tkun qed tikkordina attività dwar ix-xogħol tagħha trejdjunjonistiku u dwar l-importanza li ħaddiema jissieħbu f’unjin \nRafel Grima mill-Moviment Graffitti se jippreżenta dwar il-bilanċ bejn ix-xogħol u l-ħajja personali bħala parti mill-kampanja tagħna – Ġustizzja mal-Ħaddiema. \nMin irid jista’ jġib ftit ikel u xorb biex naqsmuh bejnietna u kuxin biex ipoġġi fuqu. Ejjew u ġibu lill-ħbieb biex niċċelebraw flimkien u nesprimu s-solidarjetà tagħna mal-ħaddiema.
URL:https://movimentgraffitti.org/event/festa-haddiema-2/
LOCATION:Ġnien l-Għannejja Żwieten\, VG2Q+R8\, Iż-Żejtun\, Malta
CATEGORIES:Social Events,Workers' Rights & Living Income
ATTACH;FMTTYPE=image/jpeg:https://movimentgraffitti.org/wp-content/uploads/2026/04/festa-haddiema-2026.jpg
END:VEVENT
BEGIN:VEVENT
DTSTART;TZID=Europe/Malta:20260509T110000
DTEND;TZID=Europe/Malta:20260509T160000
DTSTAMP:20260423T172745
CREATED:20260410T135815Z
LAST-MODIFIED:20260410T135815Z
UID:8500-1778324400-1778342400@movimentgraffitti.org
SUMMARY:Graff-Thrifty: Pop-Up Thrift Shop
DESCRIPTION:Looking for a wardrobe refresh\, or just supporting the cause? Join us on Saturday 9th May from 11am to 4pm for our pop-up thrift shop\, at our premises at 67\, Strait Street\, Valletta. \nThrifting is a sustainable way to buy clothes\, avoiding the ethical and global implications that come with fast fashion. You’ll also be getting quality pieces for a fraction of the usual price. \nBesides reducing your environmental impact\, you’ll also be supporting our work. As we gear up to fight Goliath battles\, we need all the help we can get. All the funds raised will go directly to Moviment Graffitti to continue our fight. \nWhat’s more\, members of Moviment Graffitti will receive a small discount on any purchases. Just show us your account on the day. Thank you for your continued support. \nYou can also have a drink as you browse or hang around. Please note the venue is only accessible by stairs.
URL:https://movimentgraffitti.org/event/graff-thrifty-pop-up-thrift-shop-2/
LOCATION:Moviment Graffitti Premises\, 67\, Strait Street\, Valletta\, Malta
CATEGORIES:Defending Public Spaces & The Environment,Social Events
ATTACH;FMTTYPE=image/jpeg:https://movimentgraffitti.org/wp-content/uploads/2026/04/graff-thrifty-2026.jpg
END:VEVENT
END:VCALENDAR